BEGIN:VCALENDAR
VERSION:2.0
PRODID:-//Schachclub Grunbach e.V. - ECPv6.15.20//NONSGML v1.0//EN
CALSCALE:GREGORIAN
METHOD:PUBLISH
X-WR-CALNAME:Schachclub Grunbach e.V.
X-ORIGINAL-URL:https://schachclub-grunbach.de
X-WR-CALDESC:Veranstaltungen für Schachclub Grunbach e.V.
REFRESH-INTERVAL;VALUE=DURATION:PT1H
X-Robots-Tag:noindex
X-PUBLISHED-TTL:PT1H
BEGIN:VTIMEZONE
TZID:Europe/Berlin
BEGIN:DAYLIGHT
TZOFFSETFROM:+0100
TZOFFSETTO:+0200
TZNAME:CEST
DTSTART:20220327T010000
END:DAYLIGHT
BEGIN:STANDARD
TZOFFSETFROM:+0200
TZOFFSETTO:+0100
TZNAME:CET
DTSTART:20221030T010000
END:STANDARD
BEGIN:DAYLIGHT
TZOFFSETFROM:+0100
TZOFFSETTO:+0200
TZNAME:CEST
DTSTART:20230326T010000
END:DAYLIGHT
BEGIN:STANDARD
TZOFFSETFROM:+0200
TZOFFSETTO:+0100
TZNAME:CET
DTSTART:20231029T010000
END:STANDARD
BEGIN:DAYLIGHT
TZOFFSETFROM:+0100
TZOFFSETTO:+0200
TZNAME:CEST
DTSTART:20240331T010000
END:DAYLIGHT
BEGIN:STANDARD
TZOFFSETFROM:+0200
TZOFFSETTO:+0100
TZNAME:CET
DTSTART:20241027T010000
END:STANDARD
END:VTIMEZONE
BEGIN:VEVENT
DTSTART;TZID=Europe/Berlin:20230402T090000
DTEND;TZID=Europe/Berlin:20230402T150000
DTSTAMP:20260421T135315
CREATED:20220917T154218Z
LAST-MODIFIED:20220917T154218Z
UID:9692-1680426000-1680447600@schachclub-grunbach.de
SUMMARY:Bezirksliga: SC Grunbach 3 - SF Waldstetten 1
DESCRIPTION:Zuschauer sind bei unseren Mannschaftspielen gern gesehen. Etwaige Coronabeschränkungen sind zu beachten. Es werden Getränke zum Kauf angeboten.
URL:https://schachclub-grunbach.de/event/bezirksliga-sc-grunbach-3-sf-waldstetten-1/
LOCATION:Bürgerhaus Grunbach\, Schillerstr. 30\, Remshalden\, 73630\, Deutschland
CATEGORIES:Mannschaftsspiele
END:VEVENT
BEGIN:VEVENT
DTSTART;TZID=Europe/Berlin:20230402T090000
DTEND;TZID=Europe/Berlin:20230402T150000
DTSTAMP:20260421T135315
CREATED:20220917T154218Z
LAST-MODIFIED:20220917T154218Z
UID:9693-1680426000-1680447600@schachclub-grunbach.de
SUMMARY:Bezirksklasse: SC Grunbach 4 - spielfrei
DESCRIPTION:Zuschauer sind bei unseren Mannschaftspielen gern gesehen. Etwaige Coronabeschränkungen sind zu beachten. Es werden Getränke zum Kauf angeboten.
URL:https://schachclub-grunbach.de/event/bezirksklasse-sc-grunbach-4-spielfrei/
CATEGORIES:Mannschaftsspiele
END:VEVENT
BEGIN:VEVENT
DTSTART;TZID=Europe/Berlin:20230402T100000
DTEND;TZID=Europe/Berlin:20230402T150000
DTSTAMP:20260421T135315
CREATED:20220917T154218Z
LAST-MODIFIED:20220917T154218Z
UID:9694-1680429600-1680447600@schachclub-grunbach.de
SUMMARY:Verbandsliga: SK Sontheim 1 - SC Grunbach 1
DESCRIPTION:Zuschauer sind bei unseren Mannschaftspielen gern gesehen. Etwaige Coronabeschränkungen sind zu beachten. Es werden Getränke zum Kauf angeboten.
URL:https://schachclub-grunbach.de/event/verbandsliga-sk-sontheim-1-sc-grunbach-1/
CATEGORIES:Mannschaftsspiele
END:VEVENT
BEGIN:VEVENT
DTSTART;TZID=Europe/Berlin:20230430T100000
DTEND;TZID=Europe/Berlin:20230430T150000
DTSTAMP:20260421T135315
CREATED:20220917T154219Z
LAST-MODIFIED:20220917T154219Z
UID:9695-1682848800-1682866800@schachclub-grunbach.de
SUMMARY:Verbandsliga: SC Grunbach 1 - SV Wolfbusch 1
DESCRIPTION:Zuschauer sind bei unseren Mannschaftspielen gern gesehen. Etwaige Coronabeschränkungen sind zu beachten. Es werden Getränke zum Kauf angeboten.
URL:https://schachclub-grunbach.de/event/verbandsliga-sc-grunbach-1-sv-wolfbusch-1/
LOCATION:Bürgerhaus Grunbach\, Schillerstr. 30\, Remshalden\, 73630\, Deutschland
CATEGORIES:Mannschaftsspiele
END:VEVENT
END:VCALENDAR