BEGIN:VCALENDAR
VERSION:2.0
PRODID:-//Schachclub Grunbach e.V. - ECPv6.15.20//NONSGML v1.0//EN
CALSCALE:GREGORIAN
METHOD:PUBLISH
X-ORIGINAL-URL:https://schachclub-grunbach.de
X-WR-CALDESC:Veranstaltungen für Schachclub Grunbach e.V.
REFRESH-INTERVAL;VALUE=DURATION:PT1H
X-Robots-Tag:noindex
X-PUBLISHED-TTL:PT1H
BEGIN:VTIMEZONE
TZID:Europe/Berlin
BEGIN:DAYLIGHT
TZOFFSETFROM:+0100
TZOFFSETTO:+0200
TZNAME:CEST
DTSTART:20220327T010000
END:DAYLIGHT
BEGIN:STANDARD
TZOFFSETFROM:+0200
TZOFFSETTO:+0100
TZNAME:CET
DTSTART:20221030T010000
END:STANDARD
BEGIN:DAYLIGHT
TZOFFSETFROM:+0100
TZOFFSETTO:+0200
TZNAME:CEST
DTSTART:20230326T010000
END:DAYLIGHT
BEGIN:STANDARD
TZOFFSETFROM:+0200
TZOFFSETTO:+0100
TZNAME:CET
DTSTART:20231029T010000
END:STANDARD
BEGIN:DAYLIGHT
TZOFFSETFROM:+0100
TZOFFSETTO:+0200
TZNAME:CEST
DTSTART:20240331T010000
END:DAYLIGHT
BEGIN:STANDARD
TZOFFSETFROM:+0200
TZOFFSETTO:+0100
TZNAME:CET
DTSTART:20241027T010000
END:STANDARD
END:VTIMEZONE
BEGIN:VEVENT
DTSTART;TZID=Europe/Berlin:20230305T090000
DTEND;TZID=Europe/Berlin:20230305T150000
DTSTAMP:20260421T120631
CREATED:20220917T154202Z
LAST-MODIFIED:20220917T154202Z
UID:9686-1678006800-1678028400@schachclub-grunbach.de
SUMMARY:Landesliga: SF 90 Spraitbach 1 - SC Grunbach 2
DESCRIPTION:Zuschauer sind bei unseren Mannschaftspielen gern gesehen. Etwaige Coronabeschränkungen sind zu beachten. Es werden Getränke zum Kauf angeboten.
URL:https://schachclub-grunbach.de/event/landesliga-sf-90-spraitbach-1-sc-grunbach-2/
LOCATION:Bürgerhaus Grunbach\, Schillerstr. 30\, Remshalden\, 73630\, Deutschland
CATEGORIES:Mannschaftsspiele
END:VEVENT
BEGIN:VEVENT
DTSTART;TZID=Europe/Berlin:20230305T090000
DTEND;TZID=Europe/Berlin:20230305T150000
DTSTAMP:20260421T120631
CREATED:20220917T154203Z
LAST-MODIFIED:20220917T154203Z
UID:9687-1678006800-1678028400@schachclub-grunbach.de
SUMMARY:Kreisklasse SG Gmünd 6 - SC Grunbach 5
DESCRIPTION:Zuschauer sind bei unseren Mannschaftspielen gern gesehen. Etwaige Coronabeschränkungen sind zu beachten. Es werden Getränke zum Kauf angeboten.
URL:https://schachclub-grunbach.de/event/kreisklasse-sg-gmuend-6-sc-grunbach-5/
LOCATION:Bürgerhaus Grunbach\, Schillerstr. 30\, Remshalden\, 73630\, Deutschland
CATEGORIES:Mannschaftsspiele
END:VEVENT
BEGIN:VEVENT
DTSTART;TZID=Europe/Berlin:20230312T090000
DTEND;TZID=Europe/Berlin:20230312T150000
DTSTAMP:20260421T120631
CREATED:20220917T154203Z
LAST-MODIFIED:20220917T154203Z
UID:9688-1678611600-1678633200@schachclub-grunbach.de
SUMMARY:Bezirksliga: SF Königsbronn 1 - SC Grunbach 3
DESCRIPTION:Zuschauer sind bei unseren Mannschaftspielen gern gesehen. Etwaige Coronabeschränkungen sind zu beachten. Es werden Getränke zum Kauf angeboten.
URL:https://schachclub-grunbach.de/event/bezirksliga-sf-koenigsbronn-1-sc-grunbach-3/
CATEGORIES:Mannschaftsspiele
END:VEVENT
BEGIN:VEVENT
DTSTART;TZID=Europe/Berlin:20230312T090000
DTEND;TZID=Europe/Berlin:20230312T150000
DTSTAMP:20260421T120631
CREATED:20220917T154203Z
LAST-MODIFIED:20220917T154203Z
UID:9689-1678611600-1678633200@schachclub-grunbach.de
SUMMARY:Bezirksklasse: SG Gmünd 4 - SC Grunbach 4
DESCRIPTION:Zuschauer sind bei unseren Mannschaftspielen gern gesehen. Etwaige Coronabeschränkungen sind zu beachten. Es werden Getränke zum Kauf angeboten.
URL:https://schachclub-grunbach.de/event/bezirksklasse-sg-gmuend-4-sc-grunbach-4/
CATEGORIES:Mannschaftsspiele
END:VEVENT
BEGIN:VEVENT
DTSTART;TZID=Europe/Berlin:20230312T100000
DTEND;TZID=Europe/Berlin:20230312T150000
DTSTAMP:20260421T120631
CREATED:20220917T154204Z
LAST-MODIFIED:20220917T154204Z
UID:9690-1678615200-1678633200@schachclub-grunbach.de
SUMMARY:Verbandsliga: SC Grunbach 1 - Stuttgarter SF 3
DESCRIPTION:Zuschauer sind bei unseren Mannschaftspielen gern gesehen. Etwaige Coronabeschränkungen sind zu beachten. Es werden Getränke zum Kauf angeboten.
URL:https://schachclub-grunbach.de/event/verbandsliga-sc-grunbach-1-stuttgarter-sf-3/
LOCATION:Bürgerhaus Grunbach\, Schillerstr. 30\, Remshalden\, 73630\, Deutschland
CATEGORIES:Mannschaftsspiele
END:VEVENT
BEGIN:VEVENT
DTSTART;TZID=Europe/Berlin:20230326T090000
DTEND;TZID=Europe/Berlin:20230326T150000
DTSTAMP:20260421T120631
CREATED:20220917T154217Z
LAST-MODIFIED:20220917T154217Z
UID:9691-1679821200-1679842800@schachclub-grunbach.de
SUMMARY:Landesliga: SC Grunbach 2 - SC Plüderhausen 1
DESCRIPTION:Zuschauer sind bei unseren Mannschaftspielen gern gesehen. Etwaige Coronabeschränkungen sind zu beachten. Es werden Getränke zum Kauf angeboten.
URL:https://schachclub-grunbach.de/event/landesliga-sc-grunbach-2-sc-pluederhausen-1/
LOCATION:Bürgerhaus Grunbach\, Schillerstr. 30\, Remshalden\, 73630\, Deutschland
CATEGORIES:Mannschaftsspiele
END:VEVENT
END:VCALENDAR