BEGIN:VCALENDAR
VERSION:2.0
PRODID:-//Schachclub Grunbach e.V. - ECPv6.15.20//NONSGML v1.0//EN
CALSCALE:GREGORIAN
METHOD:PUBLISH
X-WR-CALNAME:Schachclub Grunbach e.V.
X-ORIGINAL-URL:https://schachclub-grunbach.de
X-WR-CALDESC:Veranstaltungen für Schachclub Grunbach e.V.
REFRESH-INTERVAL;VALUE=DURATION:PT1H
X-Robots-Tag:noindex
X-PUBLISHED-TTL:PT1H
BEGIN:VTIMEZONE
TZID:Europe/Berlin
BEGIN:DAYLIGHT
TZOFFSETFROM:+0100
TZOFFSETTO:+0200
TZNAME:CEST
DTSTART:20220327T010000
END:DAYLIGHT
BEGIN:STANDARD
TZOFFSETFROM:+0200
TZOFFSETTO:+0100
TZNAME:CET
DTSTART:20221030T010000
END:STANDARD
BEGIN:DAYLIGHT
TZOFFSETFROM:+0100
TZOFFSETTO:+0200
TZNAME:CEST
DTSTART:20230326T010000
END:DAYLIGHT
BEGIN:STANDARD
TZOFFSETFROM:+0200
TZOFFSETTO:+0100
TZNAME:CET
DTSTART:20231029T010000
END:STANDARD
BEGIN:DAYLIGHT
TZOFFSETFROM:+0100
TZOFFSETTO:+0200
TZNAME:CEST
DTSTART:20240331T010000
END:DAYLIGHT
BEGIN:STANDARD
TZOFFSETFROM:+0200
TZOFFSETTO:+0100
TZNAME:CET
DTSTART:20241027T010000
END:STANDARD
END:VTIMEZONE
BEGIN:VEVENT
DTSTART;TZID=Europe/Berlin:20230115T090000
DTEND;TZID=Europe/Berlin:20230115T150000
DTSTAMP:20260420T174859
CREATED:20220917T154133Z
LAST-MODIFIED:20220917T154133Z
UID:9677-1673773200-1673794800@schachclub-grunbach.de
SUMMARY:Landesliga: SC Grunbach 2 - SV Crailsheim 1
DESCRIPTION:Zuschauer sind bei unseren Mannschaftspielen gern gesehen. Etwaige Coronabeschränkungen sind zu beachten. Es werden Getränke zum Kauf angeboten.
URL:https://schachclub-grunbach.de/event/landesliga-sc-grunbach-2-sv-crailsheim-1/
LOCATION:Bürgerhaus Grunbach\, Schillerstr. 30\, Remshalden\, 73630\, Deutschland
CATEGORIES:Mannschaftsspiele
END:VEVENT
BEGIN:VEVENT
DTSTART;TZID=Europe/Berlin:20230115T090000
DTEND;TZID=Europe/Berlin:20230115T150000
DTSTAMP:20260420T174859
CREATED:20220917T154133Z
LAST-MODIFIED:20220917T154133Z
UID:9678-1673773200-1673794800@schachclub-grunbach.de
SUMMARY:Bezirksklasse: TSV Alfdorf 1 - SC Grunbach 4
DESCRIPTION:Zuschauer sind bei unseren Mannschaftspielen gern gesehen. Etwaige Coronabeschränkungen sind zu beachten. Es werden Getränke zum Kauf angeboten.
URL:https://schachclub-grunbach.de/event/bezirksklasse-tsv-alfdorf-1-sc-grunbach-4/
CATEGORIES:Mannschaftsspiele
END:VEVENT
BEGIN:VEVENT
DTSTART;TZID=Europe/Berlin:20230122T090000
DTEND;TZID=Europe/Berlin:20230122T150000
DTSTAMP:20260420T174859
CREATED:20220917T154134Z
LAST-MODIFIED:20220917T154134Z
UID:9679-1674378000-1674399600@schachclub-grunbach.de
SUMMARY:Bezirksliga: SC Tannhausen 1 - SC Grunbach 3
DESCRIPTION:Zuschauer sind bei unseren Mannschaftspielen gern gesehen. Etwaige Coronabeschränkungen sind zu beachten. Es werden Getränke zum Kauf angeboten.
URL:https://schachclub-grunbach.de/event/bezirksliga-sc-tannhausen-1-sc-grunbach-3/
CATEGORIES:Mannschaftsspiele
END:VEVENT
BEGIN:VEVENT
DTSTART;TZID=Europe/Berlin:20230122T100000
DTEND;TZID=Europe/Berlin:20230122T150000
DTSTAMP:20260420T174859
CREATED:20220917T154134Z
LAST-MODIFIED:20220917T154134Z
UID:9680-1674381600-1674399600@schachclub-grunbach.de
SUMMARY:Verbandsliga: SC Grunbach 1 - SG Ludwigsburg 1
DESCRIPTION:Zuschauer sind bei unseren Mannschaftspielen gern gesehen. Etwaige Coronabeschränkungen sind zu beachten. Es werden Getränke zum Kauf angeboten.
URL:https://schachclub-grunbach.de/event/verbandsliga-sc-grunbach-1-sg-ludwigsburg-1/
LOCATION:Bürgerhaus Grunbach\, Schillerstr. 30\, Remshalden\, 73630\, Deutschland
CATEGORIES:Mannschaftsspiele
END:VEVENT
BEGIN:VEVENT
DTSTART;TZID=Europe/Berlin:20230129T090000
DTEND;TZID=Europe/Berlin:20230129T150000
DTSTAMP:20260420T174859
CREATED:20220917T154147Z
LAST-MODIFIED:20220917T154147Z
UID:9681-1674982800-1675004400@schachclub-grunbach.de
SUMMARY:Bezirksklasse: SC Grunbach 4 - SF 90 Spraitbach 2
DESCRIPTION:Zuschauer sind bei unseren Mannschaftspielen gern gesehen. Etwaige Coronabeschränkungen sind zu beachten. Es werden Getränke zum Kauf angeboten.
URL:https://schachclub-grunbach.de/event/bezirksklasse-sc-grunbach-4-sf-90-spraitbach-2/
LOCATION:Bürgerhaus Grunbach\, Schillerstr. 30\, Remshalden\, 73630\, Deutschland
CATEGORIES:Mannschaftsspiele
END:VEVENT
BEGIN:VEVENT
DTSTART;TZID=Europe/Berlin:20230129T090000
DTEND;TZID=Europe/Berlin:20230129T150000
DTSTAMP:20260420T174859
CREATED:20220917T154148Z
LAST-MODIFIED:20220917T154148Z
UID:9682-1674982800-1675004400@schachclub-grunbach.de
SUMMARY:Kreisklasse SC Grunbach 5 - SG Gmünd 5
DESCRIPTION:Zuschauer sind bei unseren Mannschaftspielen gern gesehen. Etwaige Coronabeschränkungen sind zu beachten. Es werden Getränke zum Kauf angeboten.
URL:https://schachclub-grunbach.de/event/kreisklasse-sc-grunbach-5-sg-gmuend-5/
LOCATION:Bürgerhaus Grunbach\, Schillerstr. 30\, Remshalden\, 73630\, Deutschland
CATEGORIES:Mannschaftsspiele
END:VEVENT
END:VCALENDAR