BEGIN:VCALENDAR
VERSION:2.0
PRODID:-//Schachclub Grunbach e.V. - ECPv6.15.20//NONSGML v1.0//EN
CALSCALE:GREGORIAN
METHOD:PUBLISH
X-WR-CALNAME:Schachclub Grunbach e.V.
X-ORIGINAL-URL:https://schachclub-grunbach.de
X-WR-CALDESC:Veranstaltungen für Schachclub Grunbach e.V.
REFRESH-INTERVAL;VALUE=DURATION:PT1H
X-Robots-Tag:noindex
X-PUBLISHED-TTL:PT1H
BEGIN:VTIMEZONE
TZID:Europe/Berlin
BEGIN:DAYLIGHT
TZOFFSETFROM:+0100
TZOFFSETTO:+0200
TZNAME:CEST
DTSTART:20210328T010000
END:DAYLIGHT
BEGIN:STANDARD
TZOFFSETFROM:+0200
TZOFFSETTO:+0100
TZNAME:CET
DTSTART:20211031T010000
END:STANDARD
BEGIN:DAYLIGHT
TZOFFSETFROM:+0100
TZOFFSETTO:+0200
TZNAME:CEST
DTSTART:20220327T010000
END:DAYLIGHT
BEGIN:STANDARD
TZOFFSETFROM:+0200
TZOFFSETTO:+0100
TZNAME:CET
DTSTART:20221030T010000
END:STANDARD
BEGIN:DAYLIGHT
TZOFFSETFROM:+0100
TZOFFSETTO:+0200
TZNAME:CEST
DTSTART:20230326T010000
END:DAYLIGHT
BEGIN:STANDARD
TZOFFSETFROM:+0200
TZOFFSETTO:+0100
TZNAME:CET
DTSTART:20231029T010000
END:STANDARD
END:VTIMEZONE
BEGIN:VEVENT
DTSTART;TZID=Europe/Berlin:20221204T090000
DTEND;TZID=Europe/Berlin:20221204T150000
DTSTAMP:20260420T175406
CREATED:20220917T154117Z
LAST-MODIFIED:20220917T154117Z
UID:9671-1670144400-1670166000@schachclub-grunbach.de
SUMMARY:Bezirksliga: SF Heubach 1 - SC Grunbach 3
DESCRIPTION:Zuschauer sind bei unseren Mannschaftspielen gern gesehen. Etwaige Coronabeschränkungen sind zu beachten. Es werden Getränke zum Kauf angeboten.
URL:https://schachclub-grunbach.de/event/bezirksliga-sf-heubach-1-sc-grunbach-3/
CATEGORIES:Mannschaftsspiele
END:VEVENT
BEGIN:VEVENT
DTSTART;TZID=Europe/Berlin:20221204T090000
DTEND;TZID=Europe/Berlin:20221204T150000
DTSTAMP:20260420T175406
CREATED:20220917T154118Z
LAST-MODIFIED:20220917T154118Z
UID:9672-1670144400-1670166000@schachclub-grunbach.de
SUMMARY:Bezirksklasse: SC Grunbach 4 - SF 90 Spraitbach 3
DESCRIPTION:Zuschauer sind bei unseren Mannschaftspielen gern gesehen. Etwaige Coronabeschränkungen sind zu beachten. Es werden Getränke zum Kauf angeboten.
URL:https://schachclub-grunbach.de/event/bezirksklasse-sc-grunbach-4-sf-90-spraitbach-3/
LOCATION:Bürgerhaus Grunbach\, Schillerstr. 30\, Remshalden\, 73630\, Deutschland
CATEGORIES:Mannschaftsspiele
END:VEVENT
BEGIN:VEVENT
DTSTART;TZID=Europe/Berlin:20221204T100000
DTEND;TZID=Europe/Berlin:20221204T150000
DTSTAMP:20260420T175406
CREATED:20220917T154118Z
LAST-MODIFIED:20220917T154118Z
UID:9673-1670148000-1670166000@schachclub-grunbach.de
SUMMARY:Verbandsliga: Heilbronner SV 2 - SC Grunbach 1
DESCRIPTION:Zuschauer sind bei unseren Mannschaftspielen gern gesehen. Etwaige Coronabeschränkungen sind zu beachten. Es werden Getränke zum Kauf angeboten.
URL:https://schachclub-grunbach.de/event/verbandsliga-heilbronner-sv-2-sc-grunbach-1/
CATEGORIES:Mannschaftsspiele
END:VEVENT
BEGIN:VEVENT
DTSTART;TZID=Europe/Berlin:20221211T090000
DTEND;TZID=Europe/Berlin:20221211T150000
DTSTAMP:20260420T175406
CREATED:20220917T154118Z
LAST-MODIFIED:20220917T154118Z
UID:9674-1670749200-1670770800@schachclub-grunbach.de
SUMMARY:Landesliga: SG Gmünd 3 - SC Grunbach 2
DESCRIPTION:Zuschauer sind bei unseren Mannschaftspielen gern gesehen. Etwaige Coronabeschränkungen sind zu beachten. Es werden Getränke zum Kauf angeboten.
URL:https://schachclub-grunbach.de/event/landesliga-sg-gmuend-3-sc-grunbach-2/
CATEGORIES:Mannschaftsspiele
END:VEVENT
BEGIN:VEVENT
DTSTART;TZID=Europe/Berlin:20221211T090000
DTEND;TZID=Europe/Berlin:20221211T150000
DTSTAMP:20260420T175406
CREATED:20220917T154119Z
LAST-MODIFIED:20220917T154119Z
UID:9675-1670749200-1670770800@schachclub-grunbach.de
SUMMARY:Kreisklasse SC Grunbach 5 - SF Waldstetten 2
DESCRIPTION:Zuschauer sind bei unseren Mannschaftspielen gern gesehen. Etwaige Coronabeschränkungen sind zu beachten. Es werden Getränke zum Kauf angeboten.
URL:https://schachclub-grunbach.de/event/kreisklasse-sc-grunbach-5-sf-waldstetten-2/
LOCATION:Bürgerhaus Grunbach\, Schillerstr. 30\, Remshalden\, 73630\, Deutschland
CATEGORIES:Mannschaftsspiele
END:VEVENT
BEGIN:VEVENT
DTSTART;TZID=Europe/Berlin:20221218T090000
DTEND;TZID=Europe/Berlin:20221218T150000
DTSTAMP:20260420T175406
CREATED:20220917T154132Z
LAST-MODIFIED:20220917T154132Z
UID:9676-1671354000-1671375600@schachclub-grunbach.de
SUMMARY:Bezirksliga: SC Grunbach 3 - SK Heidenheim 1
DESCRIPTION:Zuschauer sind bei unseren Mannschaftspielen gern gesehen. Etwaige Coronabeschränkungen sind zu beachten. Es werden Getränke zum Kauf angeboten.
URL:https://schachclub-grunbach.de/event/bezirksliga-sc-grunbach-3-sk-heidenheim-1/
LOCATION:Bürgerhaus Grunbach\, Schillerstr. 30\, Remshalden\, 73630\, Deutschland
CATEGORIES:Mannschaftsspiele
END:VEVENT
END:VCALENDAR