BEGIN:VCALENDAR
VERSION:2.0
PRODID:-//Schachclub Grunbach e.V. - ECPv6.15.20//NONSGML v1.0//EN
CALSCALE:GREGORIAN
METHOD:PUBLISH
X-ORIGINAL-URL:https://schachclub-grunbach.de
X-WR-CALDESC:Veranstaltungen für Schachclub Grunbach e.V.
REFRESH-INTERVAL;VALUE=DURATION:PT1H
X-Robots-Tag:noindex
X-PUBLISHED-TTL:PT1H
BEGIN:VTIMEZONE
TZID:Europe/Berlin
BEGIN:DAYLIGHT
TZOFFSETFROM:+0100
TZOFFSETTO:+0200
TZNAME:CEST
DTSTART:20210328T010000
END:DAYLIGHT
BEGIN:STANDARD
TZOFFSETFROM:+0200
TZOFFSETTO:+0100
TZNAME:CET
DTSTART:20211031T010000
END:STANDARD
BEGIN:DAYLIGHT
TZOFFSETFROM:+0100
TZOFFSETTO:+0200
TZNAME:CEST
DTSTART:20220327T010000
END:DAYLIGHT
BEGIN:STANDARD
TZOFFSETFROM:+0200
TZOFFSETTO:+0100
TZNAME:CET
DTSTART:20221030T010000
END:STANDARD
BEGIN:DAYLIGHT
TZOFFSETFROM:+0100
TZOFFSETTO:+0200
TZNAME:CEST
DTSTART:20230326T010000
END:DAYLIGHT
BEGIN:STANDARD
TZOFFSETFROM:+0200
TZOFFSETTO:+0100
TZNAME:CET
DTSTART:20231029T010000
END:STANDARD
END:VTIMEZONE
BEGIN:VEVENT
DTSTART;TZID=Europe/Berlin:20220918T090000
DTEND;TZID=Europe/Berlin:20220918T150000
DTSTAMP:20260421T142050
CREATED:20220917T154033Z
LAST-MODIFIED:20220917T154033Z
UID:9657-1663491600-1663513200@schachclub-grunbach.de
SUMMARY:Landesliga: SC Bopfingen 1 - SC Grunbach 2
DESCRIPTION:Zuschauer sind bei unseren Mannschaftspielen gern gesehen. Etwaige Coronabeschränkungen sind zu beachten. Es werden Getränke zum Kauf angeboten.
URL:https://schachclub-grunbach.de/event/landesliga-sc-bopfingen-1-sc-grunbach-2/
CATEGORIES:Mannschaftsspiele
END:VEVENT
BEGIN:VEVENT
DTSTART;TZID=Europe/Berlin:20220925T090000
DTEND;TZID=Europe/Berlin:20220925T150000
DTSTAMP:20260421T142050
CREATED:20220917T154033Z
LAST-MODIFIED:20220917T154033Z
UID:9658-1664096400-1664118000@schachclub-grunbach.de
SUMMARY:Bezirksliga: TSF Welzheim 1 - SC Grunbach 3
DESCRIPTION:Zuschauer sind bei unseren Mannschaftspielen gern gesehen. Etwaige Coronabeschränkungen sind zu beachten. Es werden Getränke zum Kauf angeboten.
URL:https://schachclub-grunbach.de/event/bezirksliga-tsf-welzheim-1-sc-grunbach-3/
CATEGORIES:Mannschaftsspiele
END:VEVENT
BEGIN:VEVENT
DTSTART;TZID=Europe/Berlin:20220925T090000
DTEND;TZID=Europe/Berlin:20220925T150000
DTSTAMP:20260421T142050
CREATED:20220917T154033Z
LAST-MODIFIED:20220917T154033Z
UID:9659-1664096400-1664118000@schachclub-grunbach.de
SUMMARY:Bezirksklasse: SC Grunbach 4 - SC Leinzell 2
DESCRIPTION:Zuschauer sind bei unseren Mannschaftspielen gern gesehen. Etwaige Coronabeschränkungen sind zu beachten. Es werden Getränke zum Kauf angeboten.
URL:https://schachclub-grunbach.de/event/bezirksklasse-sc-grunbach-4-sc-leinzell-2/
LOCATION:Bürgerhaus Grunbach\, Schillerstr. 30\, Remshalden\, 73630\, Deutschland
CATEGORIES:Mannschaftsspiele
END:VEVENT
BEGIN:VEVENT
DTSTART;TZID=Europe/Berlin:20220925T100000
DTEND;TZID=Europe/Berlin:20220925T150000
DTSTAMP:20260421T142050
CREATED:20220917T154034Z
LAST-MODIFIED:20220917T154034Z
UID:9660-1664100000-1664118000@schachclub-grunbach.de
SUMMARY:Verbandsliga: Spvgg Böblingen 1 - SC Grunbach 1
DESCRIPTION:Zuschauer sind bei unseren Mannschaftspielen gern gesehen. Etwaige Coronabeschränkungen sind zu beachten. Es werden Getränke zum Kauf angeboten.
URL:https://schachclub-grunbach.de/event/verbandsliga-spvgg-boeblingen-1-sc-grunbach-1/
CATEGORIES:Mannschaftsspiele
END:VEVENT
END:VCALENDAR